BEGIN:VCALENDAR
VERSION:2.0
PRODID:-//fundandoverschools.org//NONSGML kigkonsult.se iCalcreator 2.30.10
 //
CALSCALE:GREGORIAN
METHOD:PUBLISH
UID:1ae0f405-c6c3-4154-9aa8-9f6ee277fef0
X-WR-CALDESC:
X-WR-RELCALID:127c69effc95b0831c9ebcaab9e07369
X-WR-TIMEZONE:America/Chicago
BEGIN:VTIMEZONE
TZID:America/Chicago
BEGIN:STANDARD
TZNAME:CST
DTSTART:20301103T020000
TZOFFSETFROM:-0500
TZOFFSETTO:-0600
RDATE:20311102T020000
RDATE:20321107T020000
END:STANDARD
BEGIN:DAYLIGHT
TZNAME:CDT
DTSTART:20310309T020000
TZOFFSETFROM:-0600
TZOFFSETTO:-0500
RDATE:20320314T020000
RDATE:20330313T020000
END:DAYLIGHT
END:VTIMEZONE
BEGIN:VEVENT
UID:13996e51-0c3a-4e8b-9103-79be62d43236
DTSTAMP:20260424T044950Z
DESCRIPTION:
DTSTART;TZID=America/Chicago:20310915T183000
DTEND;TZID=America/Chicago:20310915T200000
LOCATION:District Office
SUMMARY:Monthly Board Meeting
END:VEVENT
END:VCALENDAR
