BEGIN:VCALENDAR
VERSION:2.0
PRODID:-//fundandoverschools.org//NONSGML kigkonsult.se iCalcreator 2.30.10
 //
CALSCALE:GREGORIAN
METHOD:PUBLISH
UID:690ded83-8b5e-4b7c-8029-e7b9793ee2a4
X-WR-CALDESC:
X-WR-RELCALID:3da565be31ec2416a3d5b471c0e37990
X-WR-TIMEZONE:America/Chicago
BEGIN:VTIMEZONE
TZID:America/Chicago
BEGIN:STANDARD
TZNAME:CST
DTSTART:20301103T020000
TZOFFSETFROM:-0500
TZOFFSETTO:-0600
RDATE:20311102T020000
RDATE:20321107T020000
END:STANDARD
BEGIN:DAYLIGHT
TZNAME:CDT
DTSTART:20310309T020000
TZOFFSETFROM:-0600
TZOFFSETTO:-0500
RDATE:20320314T020000
END:DAYLIGHT
END:VTIMEZONE
BEGIN:VEVENT
UID:fe0df4c8-3b2f-4606-9cf6-91eb941bb724
DTSTAMP:20260423T235929Z
DESCRIPTION:
DTSTART;TZID=America/Chicago:20310616T183000
DTEND;TZID=America/Chicago:20310616T200000
LOCATION:District Office
SUMMARY:Monthly Board Meeting
END:VEVENT
END:VCALENDAR
