BEGIN:VCALENDAR
VERSION:2.0
PRODID:-//fundandoverschools.org//NONSGML kigkonsult.se iCalcreator 2.30.10
 //
CALSCALE:GREGORIAN
METHOD:PUBLISH
UID:15dda2ec-0cc3-4231-8189-3df68fb1be1d
X-WR-CALDESC:
X-WR-RELCALID:eda33b2f8a058d8502dc3135ef1f3152
X-WR-TIMEZONE:America/Chicago
BEGIN:VTIMEZONE
TZID:America/Chicago
BEGIN:STANDARD
TZNAME:CST
DTSTART:20301103T020000
TZOFFSETFROM:-0500
TZOFFSETTO:-0600
RDATE:20311102T020000
END:STANDARD
BEGIN:DAYLIGHT
TZNAME:CDT
DTSTART:20300310T020000
TZOFFSETFROM:-0600
TZOFFSETTO:-0500
RDATE:20310309T020000
RDATE:20320314T020000
END:DAYLIGHT
END:VTIMEZONE
BEGIN:VEVENT
UID:33888479-fc32-40a1-8621-84bfb84b0508
DTSTAMP:20260423T172358Z
DESCRIPTION:
DTSTART;TZID=America/Chicago:20310120T183000
DTEND;TZID=America/Chicago:20310120T200000
LOCATION:District Office
SUMMARY:Monthly Board Meeting
END:VEVENT
END:VCALENDAR
