BEGIN:VCALENDAR
VERSION:2.0
PRODID:-//fundandoverschools.org//NONSGML kigkonsult.se iCalcreator 2.30.10
 //
CALSCALE:GREGORIAN
METHOD:PUBLISH
UID:0bb6f1bc-fa4e-4f34-8fe0-8f7aef5106a9
X-WR-CALDESC:
X-WR-RELCALID:d5d9b623fb79ba8add4114e1823ea3c2
X-WR-TIMEZONE:America/Chicago
BEGIN:VTIMEZONE
TZID:America/Chicago
BEGIN:STANDARD
TZNAME:CST
DTSTART:20291104T020000
TZOFFSETFROM:-0500
TZOFFSETTO:-0600
RDATE:20301103T020000
RDATE:20311102T020000
END:STANDARD
BEGIN:DAYLIGHT
TZNAME:CDT
DTSTART:20300310T020000
TZOFFSETFROM:-0600
TZOFFSETTO:-0500
RDATE:20310309T020000
END:DAYLIGHT
END:VTIMEZONE
BEGIN:VEVENT
UID:59d5480a-ad16-4614-ae7b-6eb8c4f7c4f4
DTSTAMP:20260423T064326Z
DESCRIPTION:
DTSTART;TZID=America/Chicago:20300520T183000
DTEND;TZID=America/Chicago:20300520T200000
LOCATION:District Office
SUMMARY:Monthly Board Meeting
END:VEVENT
END:VCALENDAR
