BEGIN:VCALENDAR
VERSION:2.0
PRODID:-//fundandoverschools.org//NONSGML kigkonsult.se iCalcreator 2.30.10
 //
CALSCALE:GREGORIAN
METHOD:PUBLISH
UID:629fa3a4-6f62-413a-b15f-8c06c3edbba6
X-WR-CALDESC:
X-WR-RELCALID:08204535e4454298023aa45a810f0e1e
X-WR-TIMEZONE:America/Chicago
BEGIN:VTIMEZONE
TZID:America/Chicago
BEGIN:STANDARD
TZNAME:CST
DTSTART:20291104T020000
TZOFFSETFROM:-0500
TZOFFSETTO:-0600
RDATE:20301103T020000
END:STANDARD
BEGIN:DAYLIGHT
TZNAME:CDT
DTSTART:20290311T020000
TZOFFSETFROM:-0600
TZOFFSETTO:-0500
RDATE:20300310T020000
RDATE:20310309T020000
END:DAYLIGHT
END:VTIMEZONE
BEGIN:VEVENT
UID:74ab90a3-faff-4fcc-b3e0-6efe4af0541e
DTSTAMP:20260422T223728Z
DESCRIPTION:
DTSTART;TZID=America/Chicago:20291119T183000
DTEND;TZID=America/Chicago:20291119T200000
LOCATION:District Office
SUMMARY:Monthly Board Meeting
END:VEVENT
END:VCALENDAR
