BEGIN:VCALENDAR
VERSION:2.0
PRODID:-//fundandoverschools.org//NONSGML kigkonsult.se iCalcreator 2.30.10
 //
CALSCALE:GREGORIAN
METHOD:PUBLISH
UID:d9e37a5b-38eb-4640-9b49-78bf24731056
X-WR-CALDESC:
X-WR-RELCALID:dfcf2966dc3d636d312ff1e41fc498e8
X-WR-TIMEZONE:America/Chicago
BEGIN:VTIMEZONE
TZID:America/Chicago
BEGIN:STANDARD
TZNAME:CST
DTSTART:20281105T020000
TZOFFSETFROM:-0500
TZOFFSETTO:-0600
RDATE:20291104T020000
END:STANDARD
BEGIN:DAYLIGHT
TZNAME:CDT
DTSTART:20280312T020000
TZOFFSETFROM:-0600
TZOFFSETTO:-0500
RDATE:20290311T020000
RDATE:20300310T020000
END:DAYLIGHT
END:VTIMEZONE
BEGIN:VEVENT
UID:7025ba16-1d59-4f20-90c6-e9c97857e3c8
DTSTAMP:20260422T073534Z
DESCRIPTION:
DTSTART;TZID=America/Chicago:20281218T183000
DTEND;TZID=America/Chicago:20281218T200000
LOCATION:District Office
SUMMARY:Monthly Board Meeting
END:VEVENT
END:VCALENDAR
