BEGIN:VCALENDAR
VERSION:2.0
PRODID:-//fundandoverschools.org//NONSGML kigkonsult.se iCalcreator 2.30.10
 //
CALSCALE:GREGORIAN
METHOD:PUBLISH
UID:ca9ba03d-daf7-458c-bbfc-564246f3d29d
X-WR-CALDESC:
X-WR-RELCALID:c6c99778b574a7bfda24a797b48cd106
X-WR-TIMEZONE:America/Chicago
BEGIN:VTIMEZONE
TZID:America/Chicago
BEGIN:STANDARD
TZNAME:CST
DTSTART:20241103T020000
TZOFFSETFROM:-0500
TZOFFSETTO:-0600
RDATE:20251102T020000
RDATE:20261101T020000
END:STANDARD
BEGIN:DAYLIGHT
TZNAME:CDT
DTSTART:20250309T020000
TZOFFSETFROM:-0600
TZOFFSETTO:-0500
RDATE:20260308T020000
END:DAYLIGHT
END:VTIMEZONE
BEGIN:VEVENT
UID:cfb69da0-3b4c-4ccc-bacd-879df4f15822
DTSTAMP:20260421T080603Z
DESCRIPTION:
DTSTART;TZID=America/Chicago:20250818T183000
DTEND;TZID=America/Chicago:20250818T200000
LOCATION:
SUMMARY:Monthly Board Meeting
END:VEVENT
END:VCALENDAR
